Package: traviz Version: 1.14.0 Command: /Library/Frameworks/R.framework/Resources/bin/R CMD INSTALL traviz StartedAt: 2025-05-01 15:42:31 -0400 (Thu, 01 May 2025) EndedAt: 2025-05-01 15:43:28 -0400 (Thu, 01 May 2025) EllapsedTime: 57.7 seconds RetCode: 0 Status: OK