Package: traviz Version: 1.14.0 Command: /Library/Frameworks/R.framework/Resources/bin/R CMD check --install=check:traviz.install-out.txt --library=/Library/Frameworks/R.framework/Resources/library --no-vignettes --timings traviz_1.14.0.tar.gz StartedAt: 2025-05-06 11:20:19 -0400 (Tue, 06 May 2025) EndedAt: 2025-05-06 11:28:04 -0400 (Tue, 06 May 2025) EllapsedTime: 464.2 seconds RetCode: 0 Status: OK CheckDir: traviz.Rcheck Warnings: 0