Package: traviz Version: 1.14.0 Command: /Library/Frameworks/R.framework/Resources/bin/R CMD INSTALL traviz StartedAt: 2025-04-21 15:24:19 -0400 (Mon, 21 Apr 2025) EndedAt: 2025-04-21 15:24:55 -0400 (Mon, 21 Apr 2025) EllapsedTime: 36.0 seconds RetCode: 0 Status: OK