Package: traviz Version: 1.14.0 Command: /home/biocbuild/R/R/bin/R CMD build --keep-empty-dirs --no-resave-data traviz StartedAt: 2025-05-06 05:10:01 -0000 (Tue, 06 May 2025) EndedAt: 2025-05-06 05:11:07 -0000 (Tue, 06 May 2025) EllapsedTime: 66.0 seconds RetCode: 0 Status: OK PackageFile: traviz_1.14.0.tar.gz PackageFileSize: 3.144 MiB