Package: traviz Version: 1.14.0 Command: /Library/Frameworks/R.framework/Resources/bin/R CMD build --keep-empty-dirs --no-resave-data traviz StartedAt: 2025-04-21 17:54:27 -0400 (Mon, 21 Apr 2025) EndedAt: 2025-04-21 17:54:48 -0400 (Mon, 21 Apr 2025) EllapsedTime: 21.3 seconds RetCode: 0 Status: OK PackageFile: traviz_1.14.0.tar.gz PackageFileSize: 3.639 MiB