Package: transomics2cytoscape Version: 1.16.0 Command: /home/biocbuild/R/R/bin/R CMD check --install=check:transomics2cytoscape.install-out.txt --library=/home/biocbuild/R/R/site-library --no-vignettes --timings transomics2cytoscape_1.16.0.tar.gz StartedAt: 2025-01-31 11:12:27 -0000 (Fri, 31 Jan 2025) EndedAt: 2025-01-31 11:12:57 -0000 (Fri, 31 Jan 2025) EllapsedTime: 30.0 seconds RetCode: 0 Status: OK CheckDir: transomics2cytoscape.Rcheck Warnings: 0