Package: transomics2cytoscape Version: 1.18.0 Command: E:\biocbuild\bbs-3.21-bioc\R\bin\R.exe CMD INSTALL transomics2cytoscape StartedAt: 2025-08-14 15:58:28 -0400 (Thu, 14 Aug 2025) EndedAt: 2025-08-14 15:59:01 -0400 (Thu, 14 Aug 2025) EllapsedTime: 32.4 seconds RetCode: 0 Status: OK