Package: transomics2cytoscape Version: 1.18.0 Command: chmod a+r transomics2cytoscape -R && E:\biocbuild\bbs-3.21-bioc\R\bin\R.exe CMD build --keep-empty-dirs --no-resave-data transomics2cytoscape StartedAt: 2025-08-14 22:47:56 -0400 (Thu, 14 Aug 2025) EndedAt: 2025-08-14 22:48:26 -0400 (Thu, 14 Aug 2025) EllapsedTime: 29.9 seconds RetCode: 0 Status: OK PackageFile: transomics2cytoscape_1.18.0.tar.gz PackageFileSize: 11.82 MiB