Package: transomics2cytoscape Version: 1.18.0 Maintainer: Kozo Nishida MaintainerEmail: kozo.nishida at gmail.com git_url: https://git.bioconductor.org/packages/transomics2cytoscape git_branch: RELEASE_3_21 git_last_commit: 1756878 git_last_commit_date: 2025-04-15 12:06:03 -0400 (Tue, 15 Apr 2025)