Package: transite Version: 1.24.0 Command: /home/biocbuild/R/R/bin/R CMD check --install=check:transite.install-out.txt --library=/home/biocbuild/R/R/site-library --no-vignettes --timings transite_1.24.0.tar.gz StartedAt: 2025-02-11 11:14:53 -0000 (Tue, 11 Feb 2025) EndedAt: 2025-02-11 11:23:31 -0000 (Tue, 11 Feb 2025) EllapsedTime: 517.8 seconds RetCode: 0 Status: OK CheckDir: transite.Rcheck Warnings: 0