Package: transite Version: 1.24.0 Command: /home/biocbuild/R/R/bin/R CMD build --keep-empty-dirs --no-resave-data transite StartedAt: 2025-02-04 03:37:45 -0000 (Tue, 04 Feb 2025) EndedAt: 2025-02-04 03:38:48 -0000 (Tue, 04 Feb 2025) EllapsedTime: 63.1 seconds RetCode: 0 Status: OK PackageFile: transite_1.24.0.tar.gz PackageFileSize: 617 KiB