Package: transite Version: 1.26.0 Command: /Library/Frameworks/R.framework/Resources/bin/R CMD build --keep-empty-dirs --no-resave-data transite StartedAt: 2025-04-21 18:45:42 -0400 (Mon, 21 Apr 2025) EndedAt: 2025-04-21 18:46:21 -0400 (Mon, 21 Apr 2025) EllapsedTime: 38.9 seconds RetCode: 0 Status: OK PackageFile: transite_1.26.0.tar.gz PackageFileSize: 637.9 KiB