Package: transformGamPoi Version: 1.14.0 Command: /home/biocbuild/R/R/bin/R CMD INSTALL transformGamPoi StartedAt: 2025-05-19 20:52:25 -0000 (Mon, 19 May 2025) EndedAt: 2025-05-19 20:52:40 -0000 (Mon, 19 May 2025) EllapsedTime: 15.4 seconds RetCode: 0 Status: OK