Package: transcriptogramer Version: 1.30.0 Command: /home/biocbuild/bbs-3.21-bioc/R/bin/R CMD INSTALL transcriptogramer StartedAt: 2025-10-15 15:44:33 -0400 (Wed, 15 Oct 2025) EndedAt: 2025-10-15 15:45:00 -0400 (Wed, 15 Oct 2025) EllapsedTime: 26.9 seconds RetCode: 0 Status: OK