Package: transcriptogramer Version: 1.30.0 Maintainer: Diego Morais MaintainerEmail: vinx at ufrn.edu.br git_url: https://git.bioconductor.org/packages/transcriptogramer git_branch: RELEASE_3_21 git_last_commit: 0f183b2 git_last_commit_date: 2025-04-15 11:16:11 -0400 (Tue, 15 Apr 2025)