Package: transcriptR Version: 1.36.0 Command: /home/biocbuild/bbs-3.21-bioc/R/bin/R CMD INSTALL transcriptR StartedAt: 2025-10-15 15:52:54 -0400 (Wed, 15 Oct 2025) EndedAt: 2025-10-15 15:53:42 -0400 (Wed, 15 Oct 2025) EllapsedTime: 47.5 seconds RetCode: 0 Status: OK