Package: tradeSeq Version: 1.20.0 Command: /home/biocbuild/R/R/bin/R CMD INSTALL tradeSeq StartedAt: 2025-01-30 20:20:41 -0000 (Thu, 30 Jan 2025) EndedAt: 2025-01-30 20:21:20 -0000 (Thu, 30 Jan 2025) EllapsedTime: 38.3 seconds RetCode: 0 Status: OK