Package: tradeSeq Version: 1.20.0 Command: /home/biocbuild/R/R/bin/R CMD build --keep-empty-dirs --no-resave-data tradeSeq StartedAt: 2025-01-31 03:15:28 -0000 (Fri, 31 Jan 2025) EndedAt: 2025-01-31 03:24:22 -0000 (Fri, 31 Jan 2025) EllapsedTime: 534.6 seconds RetCode: 0 Status: OK PackageFile: tradeSeq_1.20.0.tar.gz PackageFileSize: 3.481 MiB