Package: tpSVG Version: 1.2.0 Command: /home/biocbuild/R/R/bin/R CMD INSTALL tpSVG StartedAt: 2025-01-30 21:07:18 -0000 (Thu, 30 Jan 2025) EndedAt: 2025-01-30 21:07:47 -0000 (Thu, 30 Jan 2025) EllapsedTime: 29.0 seconds RetCode: 0 Status: OK