Package: tpSVG Version: 1.2.0 Command: /home/biocbuild/R/R/bin/R CMD build --keep-empty-dirs --no-resave-data tpSVG StartedAt: 2025-01-31 03:15:18 -0000 (Fri, 31 Jan 2025) EndedAt: 2025-01-31 03:17:01 -0000 (Fri, 31 Jan 2025) EllapsedTime: 103.1 seconds RetCode: 0 Status: OK PackageFile: tpSVG_1.2.0.tar.gz PackageFileSize: 1.259 MiB