Package: topdownr Version: 1.27.0 Command: rm -rf topdownr.buildbin-libdir && mkdir topdownr.buildbin-libdir && C:\Users\biocbuild\bbs-3.20-bioc\R\bin\R.exe CMD INSTALL --build --library=topdownr.buildbin-libdir topdownr_1.27.0.tar.gz StartedAt: 2024-07-16 06:51:30 -0400 (Tue, 16 Jul 2024) EndedAt: 2024-07-16 06:52:19 -0400 (Tue, 16 Jul 2024) EllapsedTime: 49.0 seconds RetCode: 0 Status: OK PackageFile: topdownr_1.27.0.zip PackageFileSize: 2.081 MiB