Package: topdownr Version: 1.30.0 Command: /Library/Frameworks/R.framework/Resources/bin/R CMD INSTALL topdownr StartedAt: 2025-04-21 15:34:23 -0400 (Mon, 21 Apr 2025) EndedAt: 2025-04-21 15:35:22 -0400 (Mon, 21 Apr 2025) EllapsedTime: 59.4 seconds RetCode: 0 Status: OK