Package: topGO Version: 2.58.0 Command: /home/biocbuild/R/R/bin/R CMD check --install=check:topGO.install-out.txt --library=/home/biocbuild/R/R/site-library --no-vignettes --timings topGO_2.58.0.tar.gz StartedAt: 2025-01-31 11:08:48 -0000 (Fri, 31 Jan 2025) EndedAt: 2025-01-31 11:11:20 -0000 (Fri, 31 Jan 2025) EllapsedTime: 152.2 seconds RetCode: 0 Status: OK CheckDir: topGO.Rcheck Warnings: 0