Package: topGO Version: 2.58.0 Command: /home/biocbuild/R/R/bin/R CMD build --keep-empty-dirs --no-resave-data topGO StartedAt: 2025-02-04 03:35:27 -0000 (Tue, 04 Feb 2025) EndedAt: 2025-02-04 03:38:29 -0000 (Tue, 04 Feb 2025) EllapsedTime: 181.3 seconds RetCode: 0 Status: OK PackageFile: topGO_2.58.0.tar.gz PackageFileSize: 1.896 MiB