Package: topGO Version: 2.60.1 Command: rm -rf topGO.buildbin-libdir && mkdir topGO.buildbin-libdir && /Users/biocbuild/BBS/utils/build-universal.sh topGO_2.60.1.tar.gz /Library/Frameworks/R.framework/Resources/bin/R topGO.buildbin-libdir StartedAt: 2025-10-15 20:52:33 -0400 (Wed, 15 Oct 2025) EndedAt: 2025-10-15 20:52:58 -0400 (Wed, 15 Oct 2025) EllapsedTime: 24.6 seconds RetCode: 0 Status: OK PackageFile: topGO_2.60.1.tgz PackageFileSize: 2.149 MiB