Package: tomoseqr
Version: 1.9.0
Command: chmod a+r tomoseqr -R && F:\biocbuild\bbs-3.20-bioc\R\bin\R.exe CMD build --keep-empty-dirs --no-resave-data tomoseqr
StartedAt: 2024-06-09 22:53:46 -0400 (Sun, 09 Jun 2024)
EndedAt: 2024-06-09 22:54:42 -0400 (Sun, 09 Jun 2024)
EllapsedTime: 55.7 seconds
RetCode: 0
Status: OK
PackageFile: tomoseqr_1.9.0.tar.gz
PackageFileSize: 1.558 <A href="http://en.wikipedia.org/wiki/MiB" target="_blank">MiB</A>