Package: tomoseqr Version: 1.12.0 Command: /Library/Frameworks/R.framework/Resources/bin/R CMD build --keep-empty-dirs --no-resave-data tomoseqr StartedAt: 2025-04-24 23:52:04 -0400 (Thu, 24 Apr 2025) EndedAt: 2025-04-24 23:52:41 -0400 (Thu, 24 Apr 2025) EllapsedTime: 37.4 seconds RetCode: 0 Status: OK PackageFile: tomoseqr_1.12.0.tar.gz PackageFileSize: 1.558 MiB