Package: tomoseqr Version: 1.12.0 Command: /Library/Frameworks/R.framework/Resources/bin/R CMD check --install=check:tomoseqr.install-out.txt --library=/Library/Frameworks/R.framework/Resources/library --no-vignettes --timings tomoseqr_1.12.0.tar.gz StartedAt: 2025-04-29 11:32:45 -0400 (Tue, 29 Apr 2025) EndedAt: 2025-04-29 11:33:16 -0400 (Tue, 29 Apr 2025) EllapsedTime: 31.3 seconds RetCode: 0 Status: OK CheckDir: tomoseqr.Rcheck Warnings: 0