Package: tomoda Version: 1.16.0 Command: /home/biocbuild/R/R/bin/R CMD build --keep-empty-dirs --no-resave-data tomoda StartedAt: 2025-02-04 03:34:41 -0000 (Tue, 04 Feb 2025) EndedAt: 2025-02-04 03:36:53 -0000 (Tue, 04 Feb 2025) EllapsedTime: 132.2 seconds RetCode: 0 Status: OK PackageFile: tomoda_1.16.0.tar.gz PackageFileSize: 1.51 MiB