Package: tomoda Version: 1.16.0 Command: chmod a+r tomoda -R && F:\biocbuild\bbs-3.20-bioc\R\bin\R.exe CMD build --keep-empty-dirs --no-resave-data tomoda StartedAt: 2025-01-30 22:20:36 -0500 (Thu, 30 Jan 2025) EndedAt: 2025-01-30 22:22:20 -0500 (Thu, 30 Jan 2025) EllapsedTime: 103.6 seconds RetCode: 0 Status: OK PackageFile: tomoda_1.16.0.tar.gz PackageFileSize: 1.917 MiB