Package: tomoda Version: 1.16.0 Command: rm -rf tomoda.buildbin-libdir && mkdir tomoda.buildbin-libdir && F:\biocbuild\bbs-3.20-bioc\R\bin\R.exe CMD INSTALL --build --library=tomoda.buildbin-libdir tomoda_1.16.0.tar.gz StartedAt: 2025-02-04 09:41:46 -0500 (Tue, 04 Feb 2025) EndedAt: 2025-02-04 09:42:24 -0500 (Tue, 04 Feb 2025) EllapsedTime: 37.5 seconds RetCode: 0 Status: OK PackageFile: tomoda_1.16.0.zip PackageFileSize: 1.981 MiB