Package: tomoda Version: 1.16.0 Command: /Library/Frameworks/R.framework/Resources/bin/R CMD check --install=check:tomoda.install-out.txt --library=/Library/Frameworks/R.framework/Resources/library --no-vignettes --timings tomoda_1.16.0.tar.gz StartedAt: 2025-02-04 11:22:58 -0500 (Tue, 04 Feb 2025) EndedAt: 2025-02-04 11:37:20 -0500 (Tue, 04 Feb 2025) EllapsedTime: 862.7 seconds RetCode: 0 Status: OK CheckDir: tomoda.Rcheck Warnings: 0