Package: tomoda Version: 1.16.0 Command: /Library/Frameworks/R.framework/Resources/bin/R CMD build --keep-empty-dirs --no-resave-data tomoda StartedAt: 2024-11-19 18:58:45 -0500 (Tue, 19 Nov 2024) EndedAt: 2024-11-19 19:00:20 -0500 (Tue, 19 Nov 2024) EllapsedTime: 94.5 seconds RetCode: 0 Status: OK PackageFile: tomoda_1.16.0.tar.gz PackageFileSize: 2.899 MiB