Package: tomoda Version: 1.18.0 Command: /home/biocbuild/R/R/bin/R CMD check --install=check:tomoda.install-out.txt --library=/home/biocbuild/R/R/site-library --no-vignettes --timings tomoda_1.18.0.tar.gz StartedAt: 2025-04-22 14:57:33 -0000 (Tue, 22 Apr 2025) EndedAt: 2025-04-22 15:07:25 -0000 (Tue, 22 Apr 2025) EllapsedTime: 592.5 seconds RetCode: 0 Status: OK CheckDir: tomoda.Rcheck Warnings: 0