Package: tomoda Version: 1.16.0 Command: /Library/Frameworks/R.framework/Resources/bin/R CMD check --install=check:tomoda.install-out.txt --library=/Library/Frameworks/R.framework/Resources/library --no-vignettes --timings tomoda_1.16.0.tar.gz StartedAt: 2025-02-05 13:01:56 -0500 (Wed, 05 Feb 2025) EndedAt: 2025-02-05 13:08:32 -0500 (Wed, 05 Feb 2025) EllapsedTime: 396.0 seconds RetCode: 0 Status: OK CheckDir: tomoda.Rcheck Warnings: 0