Package: timescape Version: 1.32.0 Command: /Library/Frameworks/R.framework/Resources/bin/R CMD check --install=check:timescape.install-out.txt --library=/Library/Frameworks/R.framework/Resources/library --no-vignettes --timings timescape_1.32.0.tar.gz StartedAt: 2025-05-13 11:29:33 -0400 (Tue, 13 May 2025) EndedAt: 2025-05-13 11:30:08 -0400 (Tue, 13 May 2025) EllapsedTime: 35.1 seconds RetCode: 0 Status: WARNINGS CheckDir: timescape.Rcheck Warnings: 1