Package: timescape Version: 1.32.0 Command: rm -rf timescape.buildbin-libdir && mkdir timescape.buildbin-libdir && /Users/biocbuild/BBS/utils/build-universal.sh timescape_1.32.0.tar.gz /Library/Frameworks/R.framework/Resources/bin/R timescape.buildbin-libdir StartedAt: 2025-05-14 17:16:41 -0400 (Wed, 14 May 2025) EndedAt: 2025-05-14 17:16:45 -0400 (Wed, 14 May 2025) EllapsedTime: 3.5 seconds RetCode: 0 Status: OK PackageFile: timescape_1.32.0.tgz PackageFileSize: 477.7 KiB