##############################################################################
##############################################################################
###
### Running command:
###
###   /home/biocbuild/bbs-3.20-bioc/R/bin/R CMD build --keep-empty-dirs --no-resave-data timeOmics
###
##############################################################################
##############################################################################


* checking for file ‘timeOmics/DESCRIPTION’ ... OK
* preparing ‘timeOmics’:
* checking DESCRIPTION meta-information ... OK
* installing the package to build vignettes
* creating vignettes ... OK
* checking for LF line-endings in source and make files and shell scripts
* checking for empty or unneeded directories
* building ‘timeOmics_1.18.0.tar.gz’