Package: timeOmics Version: 1.20.0 Command: /Library/Frameworks/R.framework/Resources/bin/R CMD check --install=check:timeOmics.install-out.txt --library=/Library/Frameworks/R.framework/Resources/library --no-vignettes --timings timeOmics_1.20.0.tar.gz StartedAt: 2025-04-29 14:59:48 -0400 (Tue, 29 Apr 2025) EndedAt: 2025-04-29 15:05:59 -0400 (Tue, 29 Apr 2025) EllapsedTime: 371.1 seconds RetCode: 0 Status: WARNINGS CheckDir: timeOmics.Rcheck Warnings: 2