Package: timeOmics Version: 1.20.0 Command: /Library/Frameworks/R.framework/Resources/bin/R CMD build --keep-empty-dirs --no-resave-data timeOmics StartedAt: 2025-04-29 02:33:01 -0400 (Tue, 29 Apr 2025) EndedAt: 2025-04-29 02:34:20 -0400 (Tue, 29 Apr 2025) EllapsedTime: 78.4 seconds RetCode: 0 Status: OK PackageFile: timeOmics_1.20.0.tar.gz PackageFileSize: 4.011 MiB