Package: timeOmics Version: 1.20.0 Command: /Library/Frameworks/R.framework/Resources/bin/R CMD INSTALL timeOmics StartedAt: 2025-04-21 15:10:15 -0400 (Mon, 21 Apr 2025) EndedAt: 2025-04-21 15:10:48 -0400 (Mon, 21 Apr 2025) EllapsedTime: 33.6 seconds RetCode: 0 Status: OK