Package: timeOmics Version: 1.20.0 Command: rm -rf timeOmics.buildbin-libdir && mkdir timeOmics.buildbin-libdir && /Users/biocbuild/BBS/utils/build-universal.sh timeOmics_1.20.0.tar.gz /Library/Frameworks/R.framework/Resources/bin/R timeOmics.buildbin-libdir StartedAt: 2025-04-22 01:13:23 -0400 (Tue, 22 Apr 2025) EndedAt: 2025-04-22 01:13:40 -0400 (Tue, 22 Apr 2025) EllapsedTime: 17.2 seconds RetCode: 0 Status: OK PackageFile: timeOmics_1.20.0.tgz PackageFileSize: 3.489 MiB