Package: tigre Version: 1.62.0 Command: /home/biocbuild/R/R/bin/R CMD build --keep-empty-dirs --no-resave-data tigre StartedAt: 2025-05-06 05:04:34 -0000 (Tue, 06 May 2025) EndedAt: 2025-05-06 05:08:24 -0000 (Tue, 06 May 2025) EllapsedTime: 230.1 seconds RetCode: 0 Status: OK PackageFile: tigre_1.62.0.tar.gz PackageFileSize: 307.7 KiB