Package: tidyomics Version: 1.4.0 Command: rm -rf tidyomics.buildbin-libdir && mkdir tidyomics.buildbin-libdir && E:\biocbuild\bbs-3.21-bioc\R\bin\R.exe CMD INSTALL --build --library=tidyomics.buildbin-libdir tidyomics_1.4.0.tar.gz StartedAt: 2025-08-15 10:28:49 -0400 (Fri, 15 Aug 2025) EndedAt: 2025-08-15 10:29:45 -0400 (Fri, 15 Aug 2025) EllapsedTime: 55.5 seconds RetCode: 0 Status: OK PackageFile: tidyomics_1.4.0.zip PackageFileSize: 76.93 KiB