Package: tidyomics Version: 1.4.0 Command: /Library/Frameworks/R.framework/Resources/bin/R CMD INSTALL tidyomics StartedAt: 2025-04-21 15:29:39 -0400 (Mon, 21 Apr 2025) EndedAt: 2025-04-21 15:30:27 -0400 (Mon, 21 Apr 2025) EllapsedTime: 47.3 seconds RetCode: 0 Status: OK