Package: tidybulk Version: 1.20.0 Command: rm -rf tidybulk.buildbin-libdir && mkdir tidybulk.buildbin-libdir && /Users/biocbuild/BBS/utils/build-universal.sh tidybulk_1.20.0.tar.gz /Library/Frameworks/R.framework/Resources/bin/R tidybulk.buildbin-libdir StartedAt: 2025-04-22 01:13:12 -0400 (Tue, 22 Apr 2025) EndedAt: 2025-04-22 01:14:22 -0400 (Tue, 22 Apr 2025) EllapsedTime: 69.7 seconds RetCode: 0 Status: OK PackageFile: tidybulk_1.20.0.tgz PackageFileSize: 3.403 MiB