Package: tidybulk Version: 1.20.0 Command: /Library/Frameworks/R.framework/Resources/bin/R CMD INSTALL tidybulk StartedAt: 2025-04-21 15:15:13 -0400 (Mon, 21 Apr 2025) EndedAt: 2025-04-21 15:15:32 -0400 (Mon, 21 Apr 2025) EllapsedTime: 19.3 seconds RetCode: 0 Status: OK