Package: tidySummarizedExperiment Version: 1.16.0 Command: /home/biocbuild/R/R/bin/R CMD build --keep-empty-dirs --no-resave-data tidySummarizedExperiment StartedAt: 2025-01-31 03:11:40 -0000 (Fri, 31 Jan 2025) EndedAt: 2025-01-31 03:12:30 -0000 (Fri, 31 Jan 2025) EllapsedTime: 50.0 seconds RetCode: 0 Status: OK PackageFile: tidySummarizedExperiment_1.16.0.tar.gz PackageFileSize: 337.8 KiB