Package: tidySummarizedExperiment Version: 1.18.1 Command: /home/biocbuild/bbs-3.21-bioc/R/bin/R CMD INSTALL tidySummarizedExperiment StartedAt: 2025-10-01 15:35:19 -0400 (Wed, 01 Oct 2025) EndedAt: 2025-10-01 15:35:46 -0400 (Wed, 01 Oct 2025) EllapsedTime: 27.6 seconds RetCode: 0 Status: OK