Package: tidySingleCellExperiment Version: 1.18.1 Command: /home/biocbuild/bbs-3.21-bioc/R/bin/R CMD INSTALL tidySingleCellExperiment StartedAt: 2025-10-05 15:19:14 -0400 (Sun, 05 Oct 2025) EndedAt: 2025-10-05 15:19:42 -0400 (Sun, 05 Oct 2025) EllapsedTime: 27.8 seconds RetCode: 0 Status: OK